BEGIN:VCALENDAR
VERSION:2.0
PRODID:-//Hurlarstringz - ECPv6.15.20//NONSGML v1.0//EN
CALSCALE:GREGORIAN
METHOD:PUBLISH
X-WR-CALNAME:Hurlarstringz
X-ORIGINAL-URL:https://hurlarstringz.com
X-WR-CALDESC:Events for Hurlarstringz
REFRESH-INTERVAL;VALUE=DURATION:PT1H
X-Robots-Tag:noindex
X-PUBLISHED-TTL:PT1H
BEGIN:VTIMEZONE
TZID:UTC
BEGIN:STANDARD
TZOFFSETFROM:+0000
TZOFFSETTO:+0000
TZNAME:UTC
DTSTART:20250101T000000
END:STANDARD
END:VTIMEZONE
BEGIN:VEVENT
DTSTART;TZID=UTC:20260124T110000
DTEND;TZID=UTC:20260124T150000
DTSTAMP:20260425T163813
CREATED:20260117T081800Z
LAST-MODIFIED:20260117T081800Z
UID:23270-1769252400-1769266800@hurlarstringz.com
SUMMARY:Dance of David (DOD)
DESCRIPTION:
URL:https://hurlarstringz.com/event/dance-of-david-dod/
ATTACH;FMTTYPE=image/png:https://hurlarstringz.com/wp-content/uploads/2026/01/Dance-of-David.png
END:VEVENT
BEGIN:VEVENT
DTSTART;TZID=UTC:20260410T100000
DTEND;TZID=UTC:20260410T140000
DTSTAMP:20260425T163813
CREATED:20260327T222535Z
LAST-MODIFIED:20260327T222535Z
UID:23321-1775815200-1775829600@hurlarstringz.com
SUMMARY:Rhythms of Unity
DESCRIPTION:
URL:https://hurlarstringz.com/event/rhythms-of-unity/
LOCATION:Rhythms of Unity\, Firstsite\, Lewis Gardens\, High Street\, Colchester\, CO1 1JH\, United Kingdom
CATEGORIES:Ministration
ATTACH;FMTTYPE=image/jpeg:https://hurlarstringz.com/wp-content/uploads/2026/03/IMG_3634-scaled.jpg
END:VEVENT
END:VCALENDAR