BEGIN:VCALENDAR
VERSION:2.0
PRODID:-//Hurlarstringz - ECPv6.15.20//NONSGML v1.0//EN
CALSCALE:GREGORIAN
METHOD:PUBLISH
X-WR-CALNAME:Hurlarstringz
X-ORIGINAL-URL:https://hurlarstringz.com
X-WR-CALDESC:Events for Hurlarstringz
REFRESH-INTERVAL;VALUE=DURATION:PT1H
X-Robots-Tag:noindex
X-PUBLISHED-TTL:PT1H
BEGIN:VTIMEZONE
TZID:UTC
BEGIN:STANDARD
TZOFFSETFROM:+0000
TZOFFSETTO:+0000
TZNAME:UTC
DTSTART:20240101T000000
END:STANDARD
END:VTIMEZONE
BEGIN:VEVENT
DTSTART;TZID=UTC:20251207T080000
DTEND;TZID=UTC:20251207T170000
DTSTAMP:20260423T213517
CREATED:20251121T220551Z
LAST-MODIFIED:20251121T220551Z
UID:23173-1765094400-1765126800@hurlarstringz.com
SUMMARY:Traditional Sunday
DESCRIPTION:
URL:https://hurlarstringz.com/event/traditional-sunday/
LOCATION:Abbeywood Community Hall\, 4 Knee hill\, Abbey wood\, United Kingdom
CATEGORIES:Ministration
ATTACH;FMTTYPE=image/jpeg:https://hurlarstringz.com/wp-content/uploads/2025/11/sumda.jpg
END:VEVENT
END:VCALENDAR